BEGIN:VCALENDAR
VERSION:2.0
PRODID:-//ChamberMaster//Event Calendar 2.0//EN
METHOD:PUBLISH
X-PUBLISHED-TTL:P3D
REFRESH-INTERVAL:P3D
CALSCALE:GREGORIAN
BEGIN:VEVENT
DTSTART:20180929T140000Z
DTEND:20180929T200000Z
X-MICROSOFT-CDO-ALLDAYEVENT:FALSE
SUMMARY:Girl Guide Cookie Tent at Pumpkinfest
DESCRIPTION:Girl Guide Cookie Tent at Pumpkinfest. 1st Saugeen Shores Pathfinders & Rangers will be selling yummy Girl Guide Cookies at the Classic Car Show during Pumpkinfest. Classic Chocolate Vanilla and Chocolate Mint Cookies will be available for just $5 a box! Buy 4 boxes and get a FREE pair of limited edition GGC sunglasses!! Come on out and support your local Girl Guides!
X-ALT-DESC;FMTTYPE=text/html:Girl Guide Cookie Tent at Pumpkinfest. 1st Saugeen Shores Pathfinders &amp\; Rangers will be selling yummy Girl Guide Cookies at the Classic Car Show during Pumpkinfest. Classic Chocolate Vanilla and Chocolate Mint Cookies will be available for just $5 a box! Buy 4 boxes and get a FREE pair of limited edition GGC sunglasses!! Come on out and support your local Girl Guides!
LOCATION:Girl Guide Cookie Tent will be on the parkette green space beside Port Elgin's Chamber of Commerce
UID:e.2689.17627
SEQUENCE:3
DTSTAMP:20260420T150101Z
URL:https://www.saugeenshoreschamber.ca/events/details/girl-guide-cookie-tent-at-pumpkinfest-17627
END:VEVENT

END:VCALENDAR
