BEGIN:VCALENDAR
VERSION:2.0
PRODID:-//ChamberMaster//Event Calendar 2.0//EN
METHOD:PUBLISH
X-PUBLISHED-TTL:P3D
REFRESH-INTERVAL:P3D
CALSCALE:GREGORIAN
BEGIN:VEVENT
DTSTART:20181129T230000Z
DTEND:20181130T020000Z
X-MICROSOFT-CDO-ALLDAYEVENT:FALSE
SUMMARY:Grade 8 Fundraiser & Christmas Bazaar
DESCRIPTION:Port Elgin Saugeen Central Grade 8 Fundraiser & Christmas Bazaar. Come and join the 2019 Graduating Class of Port Elgin Saugeen Saugeen Central School who are raising money toward their Graduation Trip. Local vendors will be showcasing their products. We will also have a Bake Sale and a Raffle Table. Donations will also be accepted at the door. This will be a great opportunity to get your Christmas shopping underway while supporting our Grade 8 students. Your support is greatly appreciated!
X-ALT-DESC;FMTTYPE=text/html:Port Elgin Saugeen Central Grade 8 Fundraiser &amp\; Christmas Bazaar. Come and join the 2019 Graduating Class of Port Elgin Saugeen Saugeen Central School who are raising money toward their Graduation Trip. Local vendors will be showcasing their products. We will also have a Bake Sale and a Raffle Table. Donations will also be accepted at the door. This will be a great opportunity to get your Christmas shopping underway while supporting our Grade 8 students. Your support is greatly appreciated!
LOCATION:Port Elgin Saugeen Central School\, 504 Catherine Street\, Port Elgin
UID:e.2689.17784
SEQUENCE:3
DTSTAMP:20260420T181604Z
URL:https://www.saugeenshoreschamber.ca/events/details/grade-8-fundraiser-christmas-bazaar-17784
END:VEVENT

END:VCALENDAR
