BEGIN:VCALENDAR
VERSION:2.0
PRODID:-//ChamberMaster//Event Calendar 2.0//EN
METHOD:PUBLISH
X-PUBLISHED-TTL:P3D
REFRESH-INTERVAL:P3D
CALSCALE:GREGORIAN
BEGIN:VEVENT
DTSTART;VALUE=DATE:20180819
DTEND;VALUE=DATE:20180820
TRANSP:TRANSPARENT
X-MICROSOFT-CDO-ALLDAYEVENT:TRUE
SUMMARY:Gran Fondo Lake Huron
DESCRIPTION:Gran Fondo Lake Huron. Featuring 4 distances (30\,70\,110\,160 KM)\, and a kids fun ride\, this un timed fundraising cycling event will take participants beautiful and culturally diverse routes within Saugeen Shores and into surrounding Bruce County. Gran Fondo means 'big ride' and for cyclists looking to add to their bucket list while supporting local health care\, this ride promises everything from a lakeshore leg to artisan stops to scenic countryside. This event will feature check-in the night before and activities for before and after the bike rides. Stay in Saugeen Shores\, Play within our lovely community and Ride for the Saugeen Memorial Hospital Foundation.  If you like to cycle/bike\, register to participate in this great event!
X-ALT-DESC;FMTTYPE=text/html:Gran Fondo Lake Huron. Featuring 4 distances (30\,70\,110\,160 KM)\, and a kids fun ride\, this un timed fundraising cycling event will take participants beautiful and culturally diverse routes within Saugeen Shores and into surrounding Bruce County. Gran Fondo means &lsquo\;big ride&rsquo\; and for cyclists looking to add to their bucket list while supporting local health care\, this ride promises everything from a lakeshore leg to artisan stops to scenic countryside. This event will feature check-in the night before and activities for before and after the bike rides. Stay in Saugeen Shores\, Play within our lovely community and Ride for the Saugeen Memorial Hospital Foundation.&nbsp\; If you like to cycle/bike\,&nbsp\;register to participate in&nbsp\;this great event!
LOCATION:By the Big Flag - 49 High Street\, Southampton
UID:e.2689.12438
SEQUENCE:3
DTSTAMP:20260420T131258Z
URL:https://www.saugeenshoreschamber.ca/events/details/gran-fondo-lake-huron-12438
END:VEVENT

END:VCALENDAR
