BEGIN:VCALENDAR
VERSION:2.0
PRODID:-//ChamberMaster//Event Calendar 2.0//EN
METHOD:PUBLISH
X-PUBLISHED-TTL:P3D
REFRESH-INTERVAL:P3D
CALSCALE:GREGORIAN
BEGIN:VEVENT
DTSTART:20181025T130000Z
DTEND:20181026T210000Z
X-MICROSOFT-CDO-ALLDAYEVENT:FALSE
SUMMARY:Grey-Bruce Celebrity Hockey Classic
DESCRIPTION:Grey-Bruce Celebrity Hockey Classic. The Celebrity hockey Classic for Easter Seals is a series of hockey tournaments that offers sports enthusiasts the opportunity to compete in a celebrity hockey tournament with former NHL greats. Participants will have the once-in-a-lifetime opportunity to play alongside NHL greats including Eric Lindros\, Brad May\, Tiger Williams\, Brad Marsh\, Matthew Barnaby and former Leafs Rick Vaive\, Al Lafrate and Gary Leeman. The evening before tournament day\, participants are welcome to join the exclusive Celebrity hockey Classic Draft Party. Supporting teammates and the NHL greats will join for an evening of fun\, food and festivities and each participant. This event takes place from October 25 to October 26 at 9 am to 5 pm\, at The Plex.
X-ALT-DESC;FMTTYPE=text/html:Grey-Bruce Celebrity Hockey Classic. The Celebrity hockey Classic for Easter Seals is a series of hockey tournaments that offers sports enthusiasts the opportunity to compete in a celebrity hockey tournament with former NHL greats. Participants will have the once-in-a-lifetime opportunity to play alongside NHL greats including Eric Lindros\, Brad May\, Tiger Williams\, Brad Marsh\, Matthew Barnaby and former Leafs Rick Vaive\, Al Lafrate and Gary Leeman. The evening before tournament day\, participants are welcome to join the exclusive Celebrity hockey Classic Draft Party. Supporting teammates and the NHL greats will join for an evening of fun\, food and festivities and each participant. This event takes place from October 25 to October 26 at 9 am to 5 pm\, at The Plex.
LOCATION:The Plex\, 600 Tomlinson Drive\, Port Elgin
UID:e.2689.17429
SEQUENCE:3
DTSTAMP:20260420T163924Z
URL:https://www.saugeenshoreschamber.ca/events/details/grey-bruce-celebrity-hockey-classic-17429
END:VEVENT

END:VCALENDAR
