BEGIN:VCALENDAR
VERSION:2.0
PRODID:-//ChamberMaster//Event Calendar 2.0//EN
METHOD:PUBLISH
X-PUBLISHED-TTL:P3D
REFRESH-INTERVAL:P3D
CALSCALE:GREGORIAN
BEGIN:VEVENT
DTSTART;VALUE=DATE:20180816
DTEND;VALUE=DATE:20180827
TRANSP:TRANSPARENT
X-MICROSOFT-CDO-ALLDAYEVENT:TRUE
SUMMARY:Henderson- The Paintings
DESCRIPTION:Henderson- The Paintings Ongoing from August 16th to August 26th 2018. This exhibition is a celebration of our beginnings and the vision of one man\, our founder\, Bert Henderson. This exhibition is a follow up to last year's shows Bert Henderson " Sketches Revealed" The living legacy exhibition will showcase the beauty of his paintings. It will not only honor our founder\, but provide a glimpse into his personal work. The opening reception is on August 16th from 7:00-9:00pm.
X-ALT-DESC;FMTTYPE=text/html:<p>&nbsp\;</p>\n\n<p><strong>Henderson- The Paintings&nbsp\;</strong>Ongoing from August 16th to August 26th 2018. This exhibition is a celebration of our beginnings and the vision of one man\, our founder\, Bert Henderson. This exhibition is a follow up to last year&#39\;s shows Bert Henderson &quot\; Sketches Revealed&quot\; The living legacy exhibition will showcase the beauty of his paintings. It will not only honor our founder\, but provide a glimpse into his personal work. The opening reception is on August 16th&nbsp\;from 7:00-9:00pm.</p>\n
LOCATION:Southampton Art School and Gallery 201 High St. Southampton
UID:e.2689.13253
SEQUENCE:3
DTSTAMP:20260420T131226Z
URL:https://www.saugeenshoreschamber.ca/events/details/henderson-the-paintings-13253
END:VEVENT

END:VCALENDAR
