BEGIN:VCALENDAR
VERSION:2.0
PRODID:-//ChamberMaster//Event Calendar 2.0//EN
METHOD:PUBLISH
X-PUBLISHED-TTL:P3D
REFRESH-INTERVAL:P3D
CALSCALE:GREGORIAN
BEGIN:VEVENT
DTSTART:20260322T181500Z
DTEND:20260322T201500Z
X-MICROSOFT-CDO-ALLDAYEVENT:FALSE
SUMMARY:How to get your Sh*t Together (so your loved ones don’t have to do it for you) Presentation & Open House
DESCRIPTION:Join us at Elgin Lodge for a practical and empowering afternoon at our How to Get Your Sh*t Together (so your loved ones don't have to do it for you) Presentation & Open House. This engaging session will help you take meaningful steps toward organizing your important documents\, planning your estate\, and reducing stress for your family in the future. Author Michelle Unsworth-Foote will share insights from her book and guide attendees through practical strategies for decluttering\, organizing paperwork\, and preparing essential information. She'll be joined by Angela Yenssen from the Grey Bruce Community Legal Clinic\, as well as Dave Middleton of Middleton-Finner Financial. Following the presentation\, there will be a round table Q&A with our guest speakers and attendees are welcome to enjoy a tour of the Lodge. It's an informative\, supportive event designed to help you plan ahead with confidence   and peace of mind. RSVP to 519-389-5457 or office@elginlodge.ca
X-ALT-DESC;FMTTYPE=text/html:Join us at Elgin Lodge for a practical and empowering afternoon at our How to Get Your Sh*t Together (so your loved ones don&rsquo\;t have to do it for you) Presentation &amp\; Open House. This engaging session will help you take meaningful steps toward organizing your important documents\, planning your estate\, and reducing stress for your family in the future. Author Michelle Unsworth-Foote will share insights from her book and guide attendees through practical strategies for decluttering\, organizing paperwork\, and preparing essential information. She&rsquo\;ll be joined by Angela Yenssen from the Grey Bruce Community Legal Clinic\, as well as Dave Middleton of Middleton-Finner Financial. Following the presentation\, there will be a round table Q&amp\;A with our guest speakers and attendees are welcome to enjoy a tour of the Lodge. It&rsquo\;s an informative\, supportive event designed to help you plan ahead with confidence &mdash\; and peace of mind. RSVP to 519-389-5457 or office@elginlodge.ca
LOCATION:Elgin Lodge\, 551 Mary St.\, Port Elgin
UID:e.2689.26255
SEQUENCE:3
DTSTAMP:20260421T091142Z
URL:https://www.saugeenshoreschamber.ca/events/details/how-to-get-your-sh-t-together-so-your-loved-ones-don-t-have-to-do-it-for-you-presentation-open-house-26255
END:VEVENT

END:VCALENDAR
