BEGIN:VCALENDAR
VERSION:2.0
PRODID:-//ChamberMaster//Event Calendar 2.0//EN
METHOD:PUBLISH
X-PUBLISHED-TTL:P3D
REFRESH-INTERVAL:P3D
CALSCALE:GREGORIAN
BEGIN:VEVENT
DTSTART:20181111T203000Z
DTEND:20181111T220000Z
X-MICROSOFT-CDO-ALLDAYEVENT:FALSE
SUMMARY:In Remembrance Concert with Chantry Singers and Stratford Concert Choir
DESCRIPTION:In Remembrance Concert with Chantry Singers and Starford Concert Choir.  At 3:30pm at the Port Elgin United Church\, 840 Bruce Street. A special concert commemorating the 100th anniversary of the World War 1 Armistice. Chantry Singers are joined by the Stratford Concert Choir under renowned director and organist Ian Sadler. The concert features John Rutter's Requiem\, works by Tallis\, Seeger\, Gjielo and Songs of WWII.
X-ALT-DESC;FMTTYPE=text/html:In Remembrance Concert with Chantry Singers and Starford Concert Choir.&nbsp\; At 3:30pm at the Port Elgin United Church\, 840 Bruce Street. A special concert commemorating the 100th anniversary of the World War 1 Armistice. Chantry Singers are joined by the Stratford Concert Choir under renowned director and organist Ian Sadler. The concert features John Rutter&rsquo\;s Requiem\, works by Tallis\, Seeger\, Gjielo and Songs of WWII.
LOCATION:Port Elgin United Church\, 840 Bruce St.
UID:e.2689.17725
SEQUENCE:3
DTSTAMP:20260420T183325Z
URL:https://www.saugeenshoreschamber.ca/events/details/in-remembrance-concert-with-chantry-singers-and-stratford-concert-choir-17725
END:VEVENT

END:VCALENDAR
