BEGIN:VCALENDAR
VERSION:2.0
PRODID:-//ChamberMaster//Event Calendar 2.0//EN
METHOD:PUBLISH
X-PUBLISHED-TTL:P3D
REFRESH-INTERVAL:P3D
CALSCALE:GREGORIAN
BEGIN:VEVENT
DTSTART:20210308T170000Z
DTEND:20210308T183000Z
X-MICROSOFT-CDO-ALLDAYEVENT:FALSE
SUMMARY:International Women's Day - Virtual Event
DESCRIPTION:Join the Saugeen Shores Chamber of Commerce for an International Women's Day Virtual Event celebrating women in our community. You will hear from guest speakers from a variety of industries\, their triumphs and challenges. We encourage attendees to order lunch from one of our local restaurants. \n\n\n\n$20 fee for the event\, with a portion of the proceeds going to United Way of Bruce Grey.\n\n\n\nThank you to this year's panelists:\n\nBarbara Weber - Events Coordinator & Community Engagement\, The Club at Westlinks\n\nKara Van Myall - Chief Administrative Officer\, Town of Saugeen Shores\n\nJudy Bird - Owner\, Paradise Inn\n\nMelissa Good - Owner\, Casual Corners & Mensch Clothing\n\nChristi Penner-Beck - Vice President and Director of Human Resources\, Port Elgin Chrysler Dodge Jeep Ram (Beck AutoGroup)
X-ALT-DESC;FMTTYPE=text/html:Join the Saugeen Shores Chamber of Commerce for an International Women&#39\;s Day Virtual Event celebrating women in our community. You will hear from guest speakers from a variety of industries\, their triumphs and challenges. We encourage attendees to order lunch from one of our local restaurants.&nbsp\;<br />\n<br />\n<span style="font-family: Calibri\, Verdana\, Geneva\, sans-serif\; font-size: 16px\;">$20 fee for the event\, with a portion of the proceeds going to United Way of Bruce Grey.</span><br />\n<br />\nThank you to this year&#39\;s panelists:<br />\n<strong>Barbara Weber</strong> - Events Coordinator &amp\; Community Engagement\, The Club at Westlinks<br />\n<strong>Kara Van Myall</strong> - Chief Administrative Officer\, Town of Saugeen Shores<br />\n<strong>Judy Bird</strong> - Owner\, Paradise Inn<br />\n<strong>Melissa Good</strong> - Owner\, Casual Corners &amp\; Mensch Clothing<br />\n<strong>Christi Penner-Beck<em> - </em></strong>Vice President and Director of Human Resources\, Port Elgin Chrysler Dodge Jeep Ram (Beck AutoGroup)
LOCATION:Virtual Zoom Meeting - Link available after registration.
UID:e.2689.24103
SEQUENCE:3
DTSTAMP:20260419T185116Z
URL:https://www.saugeenshoreschamber.ca/events/details/international-women-s-day-virtual-event-24103
END:VEVENT

END:VCALENDAR
