BEGIN:VCALENDAR
VERSION:2.0
PRODID:-//ChamberMaster//Event Calendar 2.0//EN
METHOD:PUBLISH
X-PUBLISHED-TTL:P3D
REFRESH-INTERVAL:P3D
CALSCALE:GREGORIAN
BEGIN:VEVENT
DTSTART:20180907T143000Z
DTEND:20180907T153000Z
X-MICROSOFT-CDO-ALLDAYEVENT:FALSE
SUMMARY:iPad Workshop
DESCRIPTION:Join us to get more familiar with your iPad. Bring your charged device. Sign up at the branch or by calling 519-797-3586.
X-ALT-DESC;FMTTYPE=text/html:Join us to get more familiar with your iPad. Bring your charged device. Sign up at the branch or by calling 519-797-3586.
LOCATION:Southampton Library
UID:e.2689.17560
SEQUENCE:3
DTSTAMP:20260420T162945Z
URL:https://www.saugeenshoreschamber.ca/events/details/ipad-workshop-09-07-2018-17560
END:VEVENT

END:VCALENDAR
