BEGIN:VCALENDAR
VERSION:2.0
PRODID:-//ChamberMaster//Event Calendar 2.0//EN
METHOD:PUBLISH
X-PUBLISHED-TTL:P3D
REFRESH-INTERVAL:P3D
CALSCALE:GREGORIAN
BEGIN:VEVENT
DTSTART:20181019T220000Z
DTEND:20181021T160000Z
X-MICROSOFT-CDO-ALLDAYEVENT:FALSE
SUMMARY:Ladies At The Lake
DESCRIPTION:Ladies At The Lake. October 19th\, 20th & 21st fall into Southampton to enjoy beautiful scenery & events during the first Ladies at the Lake weekend. Sign up for wine tasting\, art class\, a fall colour paddle\, golfing\, bike riding\, cooking class\, musical performances\, yoga\, meditation\, spa treatments\, and enjoy sales and promotions from local retailers and accommodators and fine food from Southampton restaurants. Don't miss out on this unique offering of events open to everyone\; call your friends and visit southamptonbia.ca for more information about and how you can participate.
X-ALT-DESC;FMTTYPE=text/html:Ladies At The Lake. October 19th\, 20th &amp\; 21st fall into Southampton to enjoy beautiful scenery &amp\; events during the first Ladies at the Lake weekend. Sign up for wine tasting\, art class\, a fall colour paddle\, golfing\, bike riding\, cooking class\, musical performances\, yoga\, meditation\, spa treatments\, and enjoy sales and promotions from local retailers and accommodators and fine food from Southampton restaurants. Don&rsquo\;t miss out on this unique offering of events open to everyone\; call your friends and visit southamptonbia.ca for more information about and how you can participate.
LOCATION:Southampton
UID:e.2689.17630
SEQUENCE:3
DTSTAMP:20260420T163923Z
URL:https://www.saugeenshoreschamber.ca/events/details/ladies-at-the-lake-17630
END:VEVENT

END:VCALENDAR
