BEGIN:VCALENDAR
VERSION:2.0
PRODID:-//ChamberMaster//Event Calendar 2.0//EN
METHOD:PUBLISH
X-PUBLISHED-TTL:P3D
REFRESH-INTERVAL:P3D
CALSCALE:GREGORIAN
BEGIN:VEVENT
DTSTART:20180908T150000Z
DTEND:20181020T160000Z
X-MICROSOFT-CDO-ALLDAYEVENT:FALSE
SUMMARY:Learning with Laura
DESCRIPTION:Every other Saturday\, (so on Sept 8\, Sept 22\, Oct 6\, Oct 20)\, *New* Come and join Laura for stories\, and activities. All ages.
X-ALT-DESC;FMTTYPE=text/html:Every other Saturday\, (so on Sept 8\, Sept 22\, Oct 6\, Oct 20)\, *New* Come and join Laura for stories\, and activities. All ages.
LOCATION:Port Elgin Branch Library
UID:e.2689.17583
SEQUENCE:3
DTSTAMP:20260420T145506Z
URL:https://www.saugeenshoreschamber.ca/events/details/learning-with-laura-17583
END:VEVENT

END:VCALENDAR
