BEGIN:VCALENDAR
VERSION:2.0
PRODID:-//ChamberMaster//Event Calendar 2.0//EN
METHOD:PUBLISH
X-PUBLISHED-TTL:P3D
REFRESH-INTERVAL:P3D
CALSCALE:GREGORIAN
BEGIN:VEVENT
DTSTART:20181021T170000Z
DTEND:20181021T200000Z
X-MICROSOFT-CDO-ALLDAYEVENT:FALSE
SUMMARY:Lego Club
DESCRIPTION:Lego Club.  Weekly\, every Sunday from September 9 to October 28. Drop in Sunday's for our weekly Lego Challenge at the Port Elgin Branch Library\, from 1 to 4pm.
X-ALT-DESC;FMTTYPE=text/html:Lego Club.&nbsp\; Weekly\, every Sunday from September 9 to October 28. Drop in Sunday&#39\;s for our weekly Lego Challenge at the Port Elgin Branch Library\, from 1 to 4pm.
LOCATION:Port Elgin Branch Library
UID:e.2689.17640
SEQUENCE:3
DTSTAMP:20260420T163843Z
URL:https://www.saugeenshoreschamber.ca/events/details/lego-club-10-21-2018-17640
END:VEVENT

END:VCALENDAR
