BEGIN:VCALENDAR
VERSION:2.0
PRODID:-//ChamberMaster//Event Calendar 2.0//EN
METHOD:PUBLISH
X-PUBLISHED-TTL:P3D
REFRESH-INTERVAL:P3D
CALSCALE:GREGORIAN
BEGIN:VEVENT
DTSTART:20180905T220000Z
DTEND:20180906T000000Z
X-MICROSOFT-CDO-ALLDAYEVENT:FALSE
SUMMARY:Leisure Fair
DESCRIPTION:Join us for the Fall mass registration event! It's time to register your children and yourselves in Fall & Winter programs and lessons\, and sign up for local sports leagues\, clubs and organizations! Town staff will be available to answer questions about the online registration process and to complete in person registrations. Want to register your group or organization to be part of the fair? Contact us at 519-832-2008 ext 111 to find out how you can be involved with the Leisure Fair.
X-ALT-DESC;FMTTYPE=text/html:Join us for the Fall mass registration event! It&#39\;s time to register your children and yourselves in Fall &amp\; Winter programs and lessons\, and sign up for local sports leagues\, clubs and organizations! Town staff will be available to answer questions about the online registration process and to complete in person registrations. Want to register your group or organization to be part of the fair? Contact us at 519-832-2008 ext 111 to find out how you can be involved with the Leisure Fair.
LOCATION:Rotary Hall at the Plex 600 Tomlinson Dr\, Port Elgin
UID:e.2689.12599
SEQUENCE:3
DTSTAMP:20260420T163755Z
URL:https://www.saugeenshoreschamber.ca/events/details/leisure-fair-09-05-2018-12599
END:VEVENT

END:VCALENDAR
