BEGIN:VCALENDAR
VERSION:2.0
PRODID:-//ChamberMaster//Event Calendar 2.0//EN
METHOD:PUBLISH
X-PUBLISHED-TTL:P3D
REFRESH-INTERVAL:P3D
CALSCALE:GREGORIAN
BEGIN:VEVENT
DTSTART:20180811T153000Z
DTEND:20180811T183000Z
X-MICROSOFT-CDO-ALLDAYEVENT:FALSE
SUMMARY:Life size Chutes and Ladders
DESCRIPTION:Drop in for a life size game of chutes and ladders! It'll be great fun!
X-ALT-DESC;FMTTYPE=text/html:Drop in for a life size game of chutes and ladders! It&#39\;ll be great fun!&nbsp\;
LOCATION:Southampton Library
UID:e.2689.17530
SEQUENCE:3
DTSTAMP:20260420T145715Z
URL:https://www.saugeenshoreschamber.ca/events/details/life-size-chutes-and-ladders-17530
END:VEVENT

END:VCALENDAR
