BEGIN:VCALENDAR
VERSION:2.0
PRODID:-//ChamberMaster//Event Calendar 2.0//EN
METHOD:PUBLISH
X-PUBLISHED-TTL:P3D
REFRESH-INTERVAL:P3D
CALSCALE:GREGORIAN
BEGIN:VEVENT
DTSTART:20180918T130000Z
DTEND:20180918T140000Z
X-MICROSOFT-CDO-ALLDAYEVENT:FALSE
SUMMARY:Line Dancing
DESCRIPTION:Weekly on Tuesdays at the Chantry Centre in Southampton from September 11 to December 11. Cost is $2 for members of Chantry Centre & $3 for non-members. If a class has to be canceled I will email or phone you to notify you of the change.
X-ALT-DESC;FMTTYPE=text/html:Weekly on Tuesdays at the Chantry Centre in Southampton from September 11 to December 11. Cost is $2 for members of Chantry Centre &amp\; $3 for non-members. If a class has to be canceled I will email or phone you to notify you of the change.
LOCATION:Chantry Centre\, 35 Grey Street South\, Southampton
UID:e.2689.12735
SEQUENCE:3
DTSTAMP:20260420T145645Z
URL:https://www.saugeenshoreschamber.ca/events/details/line-dancing-09-18-2018-12735
END:VEVENT

END:VCALENDAR
