BEGIN:VCALENDAR
VERSION:2.0
PRODID:-//ChamberMaster//Event Calendar 2.0//EN
METHOD:PUBLISH
X-PUBLISHED-TTL:P3D
REFRESH-INTERVAL:P3D
CALSCALE:GREGORIAN
BEGIN:VEVENT
DTSTART:20180926T130000Z
DTEND:20180926T140000Z
X-MICROSOFT-CDO-ALLDAYEVENT:FALSE
SUMMARY:Line Dancing
DESCRIPTION:Weekly line dancing on Wednesdays at the Chantry Centre in Southampton from September 12 to October 31. Cost is $2 for members of the Chantry Centre & #3 for non-members.  If there is a cancellation\, I will email or phone you to let you know.
X-ALT-DESC;FMTTYPE=text/html:Weekly line dancing on Wednesdays at the Chantry Centre in Southampton from September 12 to October 31. Cost is $2 for members of the Chantry Centre &amp\; #3 for non-members.&nbsp\; If there is a cancellation\, I will email or phone you to let you know.
LOCATION:Chantry Centre\, 35 Grey Street South\, Southampton
UID:e.2689.12698
SEQUENCE:3
DTSTAMP:20260420T145655Z
URL:https://www.saugeenshoreschamber.ca/events/details/line-dancing-09-26-2018-12698
END:VEVENT

END:VCALENDAR
