BEGIN:VCALENDAR
VERSION:2.0
PRODID:-//ChamberMaster//Event Calendar 2.0//EN
METHOD:PUBLISH
X-PUBLISHED-TTL:P3D
REFRESH-INTERVAL:P3D
CALSCALE:GREGORIAN
BEGIN:VEVENT
DTSTART:20180813T230000Z
DTEND:20180814T010000Z
X-MICROSOFT-CDO-ALLDAYEVENT:FALSE
SUMMARY:Local Authors- Wine & Cheese Reception
DESCRIPTION:Local Authors - Wine and Cheese Reception. August 13\, 7:00 p.m. Join featured authors (to be listed at a further date) as they share the insights and inspirations behind their works in this lively wine and cheese reception. Free Admission. Cash Bar. Limited Seating. Proudly presented by the Bruce County Genealogical Society and the Bruce County Historical Society.
X-ALT-DESC;FMTTYPE=text/html:Local Authors - Wine and Cheese Reception. August 13\, 7:00 p.m. Join featured authors (to be listed at a further date) as they share the insights and inspirations behind their works in this lively wine and cheese reception. Free Admission. Cash Bar. Limited Seating. Proudly presented by the Bruce County Genealogical Society and the Bruce County Historical Society.
LOCATION:Bruce County Museum & Cultural Centre\, 33 Victoria St.\, N\, Southampton\, ON N0H 2L0
UID:e.2689.17291
SEQUENCE:3
DTSTAMP:20260420T145715Z
URL:https://www.saugeenshoreschamber.ca/events/details/local-authors-wine-cheese-reception-17291
END:VEVENT

END:VCALENDAR
