BEGIN:VCALENDAR
VERSION:2.0
PRODID:-//ChamberMaster//Event Calendar 2.0//EN
METHOD:PUBLISH
X-PUBLISHED-TTL:P3D
REFRESH-INTERVAL:P3D
CALSCALE:GREGORIAN
BEGIN:VEVENT
DTSTART:20181103T130000Z
DTEND:20181104T200000Z
X-MICROSOFT-CDO-ALLDAYEVENT:FALSE
SUMMARY:MacGregor Point Provincial Park Dryland Race
DESCRIPTION:MacGregor Point Provincial Park Dryland Race. At MacGregor Point Provincial Park. Starts at 9am on November 3\, and event finished at 3pm on November 4. The Sled Dog Sports Association of Southwestern Ontario and MacGregor Point Provincial Park are proud to announce a new fall event in Saugeen Shores geared to entertain and educate the community: an open North American Sled Dog Dryland Debry and education forum!
X-ALT-DESC;FMTTYPE=text/html:MacGregor Point Provincial Park Dryland Race. At MacGregor Point Provincial Park. Starts at 9am on November 3\, and event finished at 3pm on November 4. The Sled Dog Sports Association of Southwestern Ontario and MacGregor Point Provincial Park are proud to announce a new fall event in Saugeen Shores geared to entertain and educate the community: an open North American Sled Dog Dryland Debry and education forum!
LOCATION:MacGregor Point Provincial Park
UID:e.2689.17632
SEQUENCE:3
DTSTAMP:20260420T181850Z
URL:https://www.saugeenshoreschamber.ca/events/details/macgregor-point-provincial-park-dryland-race-17632
END:VEVENT

END:VCALENDAR
