BEGIN:VCALENDAR
VERSION:2.0
PRODID:-//ChamberMaster//Event Calendar 2.0//EN
METHOD:PUBLISH
X-PUBLISHED-TTL:P3D
REFRESH-INTERVAL:P3D
CALSCALE:GREGORIAN
BEGIN:VEVENT
DTSTART:20181011T170000Z
DTEND:20181011T180000Z
X-MICROSOFT-CDO-ALLDAYEVENT:FALSE
SUMMARY:Making Grey Bruce Home Presentation
DESCRIPTION:Thursday\, October 11th. Learn how Making Grey Bruce Home assists newcomers in settling in their new life and how you can help. This Presentation features a slide show\, discussion and refreshments.
X-ALT-DESC;FMTTYPE=text/html:Thursday\, October 11th. Learn how Making Grey Bruce Home assists newcomers in settling in their new life and how you can help. This Presentation features a slide show\, discussion and refreshments.
LOCATION:Port Elgin Branch Library
UID:e.2689.17578
SEQUENCE:3
DTSTAMP:20260420T180736Z
URL:https://www.saugeenshoreschamber.ca/events/details/making-grey-bruce-home-presentation-17578
END:VEVENT

END:VCALENDAR
