BEGIN:VCALENDAR
VERSION:2.0
PRODID:-//ChamberMaster//Event Calendar 2.0//EN
METHOD:PUBLISH
X-PUBLISHED-TTL:P3D
REFRESH-INTERVAL:P3D
CALSCALE:GREGORIAN
BEGIN:VEVENT
DTSTART:20210505T113000Z
DTEND:20210505T130000Z
X-MICROSOFT-CDO-ALLDAYEVENT:FALSE
SUMMARY:Mayor's Breakfast 2021 - Virtual Event
DESCRIPTION:MAYOR'S BREAKFAST - VIRTUAL EVENT\n\n2021 Update & Beyond for Saugeen Shores\n\n \n\n7:30 - Keynote Address from Mayor Charbonneau\n\nFollowed by: Q&A with Mayor Charbonneau\n\n \n\nDon't miss your chance to attend the 2021 Mayor's Breakfast and hear from Mayor Luke Charbonneau as he discusses the outlook for Saugeen Shores. Mayor Charbonneau will also use this opportunity to answer questions submitted from attendees. \n\n\n\nMake some breakfast\, grab your coffee and join us to hear what Mayor Charbonneau hopes our community accomplishes over the coming year.\n\n \n\nAttendees may submit questions for Mayor Charbonneau prior to the event  to: \n\ninfo@saugeenshoreschamber.ca
X-ALT-DESC;FMTTYPE=text/html:<strong><span style="font-size:28px\;"><font face="franklin gothic demi cond\, sans-serif">MAYOR&#39\;S BREAKFAST - VIRTUAL EVENT</font></span></strong><br />\n<span style="color:#4F81BD\;"><span style="font-family:franklin gothic demi cond\,sans-serif\;"><span style="font-size:20.0pt\;">2021 Update &amp\; Beyond for Saugeen Shores</span></span></span><br />\n&nbsp\;<br />\n<span style="color:#4F81BD\;"><span style="font-family:franklin gothic demi cond\,sans-serif\;"><span style="font-size:18.0pt\;">7:30 - </span></span></span><span style="font-family:franklin gothic demi cond\,sans-serif\;"><span style="font-size:18.0pt\;">Keynote Address from Mayor Charbonneau</span></span><br />\n<span style="font-family:franklin gothic demi cond\,sans-serif\;"><span style="font-size:18.0pt\;"><font color="#4f81bd">Followed by:&nbsp\;</font>Q&amp\;A with Mayor Charbonneau</span></span><br />\n&nbsp\;<br />\n<span style="font-size:14.0pt\;">Don&#39\;t miss your chance to attend the 2021 Mayor&#39\;s Breakfast and hear from Mayor Luke Charbonneau as he discusses the outlook for Saugeen Shores. </span><span style="font-size:14.0pt\;">Mayor Charbonneau will also use this opportunity to answer questions submitted from attendees.&nbsp\;<br />\n<br />\nMake some breakfast\, grab your coffee and join us to hear what Mayor Charbonneau hopes our community accomplishes over the coming year.</span><br />\n&nbsp\;<br />\n<span style="font-size:14.0pt\;">Attendees may submit questions </span><span style="font-size:14.0pt\;">for Mayor Charbonneau </span><span style="font-size:14.0pt\;">prior to the event&nbsp\; to: </span><br />\n<span style="font-size:14.0pt\;"><a href="mailto:info@saugeenshoreschamber.ca?subject=Question%20for%20Mayor%20Charbonneau">info@saugeenshoreschamber.ca&nbsp\;</a></span>\n<p>&nbsp\;</p>\n
LOCATION:Virtual event - a Zoom link will be emailed to registrants prior to the event.
UID:e.2689.24126
SEQUENCE:3
DTSTAMP:20260419T152333Z
URL:https://www.saugeenshoreschamber.ca/events/details/mayor-s-breakfast-2021-virtual-event-24126
END:VEVENT

END:VCALENDAR
