BEGIN:VCALENDAR
VERSION:2.0
PRODID:-//ChamberMaster//Event Calendar 2.0//EN
METHOD:PUBLISH
X-PUBLISHED-TTL:P3D
REFRESH-INTERVAL:P3D
CALSCALE:GREGORIAN
BEGIN:VEVENT
DTSTART:20181215T180000Z
DTEND:20181215T210000Z
X-MICROSOFT-CDO-ALLDAYEVENT:FALSE
SUMMARY:Memories of Christmas and Holiday Traditions
DESCRIPTION:Memories of Christmas and Hoilday Traditions at the Bruce County Museum & Cultural Centre. Enjoy an afternoon of seasonal craft activities\, multicultural games\, treats and visits with Santa. Fun for the whole family!
X-ALT-DESC;FMTTYPE=text/html:Memories of Christmas and Hoilday Traditions at the Bruce County Museum &amp\; Cultural Centre. Enjoy an afternoon of seasonal craft activities\, multicultural games\, treats and visits with Santa. Fun for the whole family!
LOCATION:Bruce County Bruce County Museum & Cultural\, 33 Victoria Street\, Southampton\, ON
UID:e.2689.17792
SEQUENCE:3
DTSTAMP:20260421T120235Z
URL:https://www.saugeenshoreschamber.ca/events/details/memories-of-christmas-and-holiday-traditions-17792
END:VEVENT

END:VCALENDAR
