BEGIN:VCALENDAR
VERSION:2.0
PRODID:-//ChamberMaster//Event Calendar 2.0//EN
METHOD:PUBLISH
X-PUBLISHED-TTL:P3D
REFRESH-INTERVAL:P3D
CALSCALE:GREGORIAN
BEGIN:VEVENT
DTSTART:20180901T140000Z
DTEND:20180902T220000Z
X-MICROSOFT-CDO-ALLDAYEVENT:FALSE
SUMMARY:Mill Tours - In Paisley
DESCRIPTION:Mill Tours - In Paisley. These tours are admission free that require no pre-booking. The tours are a unique opportunity to be guided through a significant heritage building in the area. It has been documented as the largest remaining building of its type in Canada. The tour includes the turbine room in the basement\, all 5 floors of the grist mill\, the silo storage building and the dam. This 1885 (1st built in 1854) grist mill tour offers a real look into our past. Nature Millworks will provide tours of most of the buildings with an explanation of how flour was produced in the building from 1854 until its closing in 1972. Doors are open daily from 10:00 am to 6:00 pm. For more information go to www.naturesmillworks.com.
X-ALT-DESC;FMTTYPE=text/html:<strong>Mill Tours&nbsp\;</strong>- In Paisley. These tours are admission free that require no pre-booking. The tours are a unique opportunity to be guided through a significant heritage building in the area. It has been documented as the largest remaining building of its type in Canada. The tour includes the turbine room in the basement\, all 5 floors of the grist mill\, the silo storage building and the dam. This 1885 (1st built in 1854) grist mill tour offers a real look into our past. Nature Millworks will provide tours of most of the buildings with an explanation of how flour was produced in the building from 1854 until its closing in 1972. Doors are open daily from 10:00 am to 6:00 pm. For more information go to www.naturesmillworks.com.
LOCATION:Natures Millworks\, 4575 Bruce Rd.1\, Paisley\, ON
UID:e.2689.14711
SEQUENCE:3
DTSTAMP:20260420T145910Z
URL:https://www.saugeenshoreschamber.ca/events/details/mill-tours-in-paisley-14711
END:VEVENT

END:VCALENDAR
