BEGIN:VCALENDAR
VERSION:2.0
PRODID:-//ChamberMaster//Event Calendar 2.0//EN
METHOD:PUBLISH
X-PUBLISHED-TTL:P3D
REFRESH-INTERVAL:P3D
CALSCALE:GREGORIAN
BEGIN:VEVENT
DTSTART:20180919T200000Z
DTEND:20180919T210000Z
X-MICROSOFT-CDO-ALLDAYEVENT:FALSE
SUMMARY:Mobility Strength and more with Chris Windover
DESCRIPTION:Wednesday September 19th. Chris Windover\, personal Trainer\, will be providing insight and tips on mobility strength\, alignment and the benefits of exercise - debunking the myths!
X-ALT-DESC;FMTTYPE=text/html:Wednesday September 19th. Chris Windover\, personal Trainer\, will be providing insight and tips on mobility strength\, alignment and the benefits of exercise - debunking the myths!
LOCATION:Port Elgin Branch Library
UID:e.2689.17570
SEQUENCE:3
DTSTAMP:20260420T145716Z
URL:https://www.saugeenshoreschamber.ca/events/details/mobility-strength-and-more-with-chris-windover-17570
END:VEVENT

END:VCALENDAR
