BEGIN:VCALENDAR
VERSION:2.0
PRODID:-//ChamberMaster//Event Calendar 2.0//EN
METHOD:PUBLISH
X-PUBLISHED-TTL:P3D
REFRESH-INTERVAL:P3D
CALSCALE:GREGORIAN
BEGIN:VEVENT
DTSTART:20180919T200000Z
DTEND:20180919T210000Z
X-MICROSOFT-CDO-ALLDAYEVENT:FALSE
SUMMARY:Mobility Strength with personal trainer Chris Windover
DESCRIPTION:Mobility Strenth with personal trainer Chris Windover. Join us as we welcome Chris Windover\, Personal Trainer\, will be providing insight and tips on mobility strength\, alignment and the benefits of exercise - debunking the myths! This program is designed for adults and seniors.
X-ALT-DESC;FMTTYPE=text/html:Mobility Strenth with personal trainer Chris Windover. Join us as we welcome Chris Windover\, Personal Trainer\, will be providing insight and tips on mobility strength\, alignment and the benefits of exercise - debunking the myths! This program is designed for adults and seniors.
LOCATION:Port Elgin Branch Library
UID:e.2689.17620
SEQUENCE:3
DTSTAMP:20260420T145654Z
URL:https://www.saugeenshoreschamber.ca/events/details/mobility-strength-with-personal-trainer-chris-windover-17620
END:VEVENT

END:VCALENDAR
