BEGIN:VCALENDAR
VERSION:2.0
PRODID:-//ChamberMaster//Event Calendar 2.0//EN
METHOD:PUBLISH
X-PUBLISHED-TTL:P3D
REFRESH-INTERVAL:P3D
CALSCALE:GREGORIAN
BEGIN:VEVENT
DTSTART:20180923T130000Z
DTEND:20180923T160000Z
X-MICROSOFT-CDO-ALLDAYEVENT:FALSE
SUMMARY:Mom 2 Mom Sale
DESCRIPTION:Mom 2 Mom Sale. At the Coliseum in Southampton at 9am. Kids Street is hosting the annual fall Mom 2 Mom sale on September 23rd in the Annex of the Coliseum in Southampton. There will be many tables featuring gently used items for sale as well as some vendor tables. Admission is $2. All event proceeds will go directly towards maintaining programs and services offered by Kids Street Co-Operative Nursery School. If interested in registering for a table for this event\, please contact Kids Street ASAP to secure your spot.
X-ALT-DESC;FMTTYPE=text/html:Mom 2 Mom Sale. At the Coliseum in Southampton at 9am. Kids Street is hosting the annual fall Mom 2 Mom sale on September 23rd in the Annex of the Coliseum in Southampton. There will be many tables featuring gently used items for sale as well as some vendor tables. Admission is $2. All event proceeds will go directly towards maintaining programs and services offered by Kids Street Co-Operative Nursery School. If interested in registering for a table for this event\, please contact Kids Street ASAP to secure your spot.
LOCATION:The Coliseum in Southampton
UID:e.2689.17624
SEQUENCE:3
DTSTAMP:20260420T150100Z
URL:https://www.saugeenshoreschamber.ca/events/details/mom-2-mom-sale-17624
END:VEVENT

END:VCALENDAR
