BEGIN:VCALENDAR
VERSION:2.0
PRODID:-//ChamberMaster//Event Calendar 2.0//EN
METHOD:PUBLISH
X-PUBLISHED-TTL:P3D
REFRESH-INTERVAL:P3D
CALSCALE:GREGORIAN
BEGIN:VEVENT
DTSTART:20260509T180000Z
DTEND:20260509T200000Z
X-MICROSOFT-CDO-ALLDAYEVENT:FALSE
SUMMARY:Mother’s Day tea
DESCRIPTION:Mother's Day tea to celebrate our mom's. Light refreshments will be served. Open house with tours available
X-ALT-DESC;FMTTYPE=text/html:Mother&rsquo\;s Day tea to celebrate our mom&rsquo\;s. Light refreshments will be served. Open house with tours available
LOCATION:Hampton Court Retirement 49 Albert Street\, Southampton\, Ontario
UID:e.2689.26281
SEQUENCE:3
DTSTAMP:20260421T232656Z
URL:https://www.saugeenshoreschamber.ca/events/details/mother-s-day-tea-26281
END:VEVENT

END:VCALENDAR
