BEGIN:VCALENDAR
VERSION:2.0
PRODID:-//ChamberMaster//Event Calendar 2.0//EN
METHOD:PUBLISH
X-PUBLISHED-TTL:P3D
REFRESH-INTERVAL:P3D
CALSCALE:GREGORIAN
BEGIN:VEVENT
DTSTART:20210316T140000Z
DTEND:20210316T150000Z
X-MICROSOFT-CDO-ALLDAYEVENT:FALSE
SUMMARY:Museum Munchkins
DESCRIPTION:Museum Munchkins March 11\, March 25\, April 8\, May 13\, May 27 and June 10 10AM- 11 AM Parents\, grandparents\, and caregivers are invited to bring your favorite preschooler to this fun program designed especially for them! Play\, bond and learn through fun activities based on the Museum's exhibits. Come to all the sessions or choose from your child's favorite activities. This is a great way to get out of the house and meet other families with munchkins! Pre-registration and pre-payment are required. Recommended ages to participate are 18 months to 4 years\, but all are welcome. *dates subject to change\, please see brucemuseum.ca for monthly themes.
X-ALT-DESC;FMTTYPE=text/html:Museum Munchkins March 11\, March 25\, April 8\, May 13\, May 27 and June 10 10AM- 11 AM Parents\, grandparents\, and caregivers are invited to bring your favorite preschooler to this fun program designed especially for them! Play\, bond and learn through fun activities based on the Museum&rsquo\;s exhibits. Come to all the sessions or choose from your child&rsquo\;s favorite activities. This is a great way to get out of the house and meet other families with munchkins! Pre-registration and pre-payment are required. Recommended ages to participate are 18 months to 4 years\, but all are welcome. *dates subject to change\, please see brucemuseum.ca for monthly themes.
LOCATION:Bruce County Museum & Cultural Centre 33 Victoria St.\, N\, Southampton\, ON N0H 2L0
UID:e.2689.24118
SEQUENCE:3
DTSTAMP:20260419T203239Z
URL:https://www.saugeenshoreschamber.ca/events/details/museum-munchkins-03-16-2021-24118
END:VEVENT

END:VCALENDAR
