BEGIN:VCALENDAR
VERSION:2.0
PRODID:-//ChamberMaster//Event Calendar 2.0//EN
METHOD:PUBLISH
X-PUBLISHED-TTL:P3D
REFRESH-INTERVAL:P3D
CALSCALE:GREGORIAN
BEGIN:VEVENT
DTSTART:20180803T223000Z
DTEND:20180804T000000Z
X-MICROSOFT-CDO-ALLDAYEVENT:FALSE
SUMMARY:Music On High
DESCRIPTION:Every Friday night from June 29th to August 31st\, 6:30pm   8:00pm enjoy lively musical entertainment cascading from the alley between The Southampton Olive Oil Company and Hills Insurance on High Street\, downtown Southampton. Tonight's Performer: Lance Eckensweiler\, Sponsored by Southampton Olive Oil Company.
X-ALT-DESC;FMTTYPE=text/html:Every Friday night from June 29th to August 31st\, 6:30pm &ndash\; 8:00pm enjoy lively musical entertainment cascading from the alley between The Southampton Olive Oil Company and Hills Insurance on High Street\, downtown Southampton. Tonight&#39\;s Performer: Lance Eckensweiler\, Sponsored by Southampton Olive Oil Company.
LOCATION:High Street\, Southampton
UID:e.2689.17521
SEQUENCE:3
DTSTAMP:20260420T145746Z
URL:https://www.saugeenshoreschamber.ca/events/details/music-on-high-08-03-2018-17521
END:VEVENT

END:VCALENDAR
