BEGIN:VCALENDAR
VERSION:2.0
PRODID:-//ChamberMaster//Event Calendar 2.0//EN
METHOD:PUBLISH
X-PUBLISHED-TTL:P3D
REFRESH-INTERVAL:P3D
CALSCALE:GREGORIAN
BEGIN:VEVENT
DTSTART:20180802T150000Z
DTEND:20180802T160000Z
X-MICROSOFT-CDO-ALLDAYEVENT:FALSE
SUMMARY:Nature Club Day
DESCRIPTION:Learn some outdoor survival tips and plant an egg carton seed starter
X-ALT-DESC;FMTTYPE=text/html:Learn some outdoor survival tips and plant an egg carton seed starter
LOCATION:Southampton Library
UID:e.2689.17515
SEQUENCE:3
DTSTAMP:20260420T131238Z
URL:https://www.saugeenshoreschamber.ca/events/details/nature-club-day-17515
END:VEVENT

END:VCALENDAR
