BEGIN:VCALENDAR
VERSION:2.0
PRODID:-//ChamberMaster//Event Calendar 2.0//EN
METHOD:PUBLISH
X-PUBLISHED-TTL:P3D
REFRESH-INTERVAL:P3D
CALSCALE:GREGORIAN
BEGIN:VEVENT
DTSTART:20181028T000000Z
DTEND:20181028T120000Z
X-MICROSOFT-CDO-ALLDAYEVENT:FALSE
SUMMARY:Night at the Museum
DESCRIPTION:Night at the Museum Haven't you always wanted to spend the night at the museum! Calling all creepy crawly crafters\, goulish gamers and pumpkin partiers for a spooktacular evening. The night starts by exploring the museums exhibits by flashlight for a scavenger hunt. Then there will be crafts\, special guests\, treats and the night will finish off with a movie in the theater. Dress in your costume\, pack your bag for this is a memorable night!
X-ALT-DESC;FMTTYPE=text/html:<strong>Night at the Museum&nbsp\;</strong>Haven&#39\;t you always wanted to spend the night at the museum! Calling all creepy crawly crafters\, goulish gamers and pumpkin partiers for a spooktacular&nbsp\;evening. The night starts by exploring the museums exhibits by flashlight for a scavenger hunt. Then there will be crafts\, special guests\, treats and the night will finish off with a movie in the theater. Dress in your costume\, pack your bag for this is a memorable night!
LOCATION:33 Victoria Street \, Southampton Bruce County Museum & Cultural Center
UID:e.2689.13255
SEQUENCE:3
DTSTAMP:20260420T163707Z
URL:https://www.saugeenshoreschamber.ca/events/details/night-at-the-museum-13255
END:VEVENT

END:VCALENDAR
