BEGIN:VCALENDAR
VERSION:2.0
PRODID:-//ChamberMaster//Event Calendar 2.0//EN
METHOD:PUBLISH
X-PUBLISHED-TTL:P3D
REFRESH-INTERVAL:P3D
CALSCALE:GREGORIAN
BEGIN:VEVENT
DTSTART:20210317T160000Z
DTEND:20210317T170000Z
X-MICROSOFT-CDO-ALLDAYEVENT:FALSE
SUMMARY:NRG/ Networking and Referral Group
DESCRIPTION:This month we will be meeting virtually\, I look forward to the near future when we can return to our in person lunch meetings. This meeting lets talk about "rebuilding"in relation to our businesses and our community. Would love to hear from everyone\; what are you excited for in regards to your business and what things can we all do to support our communities while remaining safe from Covid. As we all rebuild to a new normal (hopefully sooner rather than later) what other businesses would you like to have part of our NRG group? New members are welcome!
X-ALT-DESC;FMTTYPE=text/html:<b style="caret-color: rgb(34\, 34\, 34)\; color: rgb(34\, 34\, 34)\; font-family: Arial\, Helvetica\, sans-serif\;">This month we will be meeting virtually\,</b><span style="caret-color: rgb(34\, 34\, 34)\; color: rgb(34\, 34\, 34)\; font-family: Arial\, Helvetica\, sans-serif\; font-size: small\;">&nbsp\;I look forward to the near future when we can return to our in person lunch meetings. This meeting lets talk about&nbsp\;</span><b style="caret-color: rgb(34\, 34\, 34)\; color: rgb(34\, 34\, 34)\; font-family: Arial\, Helvetica\, sans-serif\;">&quot\;rebuilding&quot\;</b><span style="caret-color: rgb(34\, 34\, 34)\; color: rgb(34\, 34\, 34)\; font-family: Arial\, Helvetica\, sans-serif\; font-size: small\;">in relation to&nbsp\;</span><b style="caret-color: rgb(34\, 34\, 34)\; color: rgb(34\, 34\, 34)\; font-family: Arial\, Helvetica\, sans-serif\;">our businesses and our community</b><span style="caret-color: rgb(34\, 34\, 34)\; color: rgb(34\, 34\, 34)\; font-family: Arial\, Helvetica\, sans-serif\; font-size: small\;">. Would love to hear from everyone\; what are you excited for in regards to your business and what things can we all do to support our communities while remaining safe from Covid. As we all rebuild to a new normal (hopefully sooner rather than later) what other businesses would you like to have part of our NRG group? New members are welcome!</span>
LOCATION:Zoom meeting\, email Christine for the Link!
UID:e.2689.24122
SEQUENCE:3
DTSTAMP:20260419T202514Z
URL:https://www.saugeenshoreschamber.ca/events/details/nrg-networking-and-referral-group-24122
END:VEVENT

END:VCALENDAR
