BEGIN:VCALENDAR
VERSION:2.0
PRODID:-//ChamberMaster//Event Calendar 2.0//EN
METHOD:PUBLISH
X-PUBLISHED-TTL:P3D
REFRESH-INTERVAL:P3D
CALSCALE:GREGORIAN
BEGIN:VEVENT
DTSTART:20181026T200000Z
DTEND:20181027T010000Z
X-MICROSOFT-CDO-ALLDAYEVENT:FALSE
SUMMARY:Octoberfest Dinner
DESCRIPTION:Octoberfest Dinner Come and enjoy some German Food and the elimination Draw. Make sure you have your tickets you could win $1\,000. Tickets are $18.00 per person. Social hour is 5pm - 6pm and dinner will be at 6pm. Located at the Chantry Centre 50+\, 35 Grey Street\, South\, Southampton.
X-ALT-DESC;FMTTYPE=text/html:Octoberfest Dinner Come and enjoy some German Food and the elimination Draw. Make sure you have your tickets you could win $1\,000. Tickets are $18.00 per person. Social hour is 5pm - 6pm and dinner will be at 6pm. Located at the Chantry Centre 50+\, 35 Grey Street\, South\, Southampton.&nbsp\;
LOCATION:Chantry Centre 50+ 35 Grey Street\, South Southampton\, On
UID:e.2689.13666
SEQUENCE:3
DTSTAMP:20260420T180659Z
URL:https://www.saugeenshoreschamber.ca/events/details/octoberfest-dinner-13666
END:VEVENT

END:VCALENDAR
