BEGIN:VCALENDAR
VERSION:2.0
PRODID:-//ChamberMaster//Event Calendar 2.0//EN
METHOD:PUBLISH
X-PUBLISHED-TTL:P3D
REFRESH-INTERVAL:P3D
CALSCALE:GREGORIAN
BEGIN:VEVENT
DTSTART:20180809T160000Z
DTEND:20180809T200000Z
X-MICROSOFT-CDO-ALLDAYEVENT:FALSE
SUMMARY:Outdoor Games at the Library
DESCRIPTION:Have some fun in the sun with some outdoor games and sports outside of the front of the library!
X-ALT-DESC;FMTTYPE=text/html:Have some fun in the sun with some outdoor games and sports outside of the front of the library!
LOCATION:Southampton Library
UID:e.2689.17528
SEQUENCE:3
DTSTAMP:20260420T131400Z
URL:https://www.saugeenshoreschamber.ca/events/details/outdoor-games-at-the-library-17528
END:VEVENT

END:VCALENDAR
