BEGIN:VCALENDAR
VERSION:2.0
PRODID:-//ChamberMaster//Event Calendar 2.0//EN
METHOD:PUBLISH
X-PUBLISHED-TTL:P3D
REFRESH-INTERVAL:P3D
CALSCALE:GREGORIAN
BEGIN:VEVENT
DTSTART:20170702T140000Z
DTEND:20170702T154500Z
X-MICROSOFT-CDO-ALLDAYEVENT:FALSE
SUMMARY:Pancake Breakfast
DESCRIPTION:Saugeen Shores Ministerial invites you to workshop with them on Sunday July 2 at 9am. The service will be held at the foot of High Street in Southampton under the tent. All Are Welcome! Please join us for a Pancake and Sausage breakfast following the service\, 10 - 11:45 am or while supplies last. Tickets: $5 each or $15 per family group of 4 (maximum of 2 adults) Tickets are available through the Chamber of Commerce or at the door.
X-ALT-DESC;FMTTYPE=text/html:Saugeen Shores Ministerial invites you to workshop with them on Sunday July 2 at 9am. The service will be held at the foot of High Street in Southampton under the tent. All Are Welcome! Please join us for a Pancake and Sausage breakfast following the service\, 10&nbsp\;- 11:45 am&nbsp\;or while supplies last. Tickets: $5 each or $15 per family group of 4 (maximum of 2 adults) Tickets are available through the Chamber of Commerce or at the door.
LOCATION:Millard Blvd. by The Big Flag in Southampton\, ON
UID:e.2689.9098
SEQUENCE:3
DTSTAMP:20260419T151748Z
URL:https://www.saugeenshoreschamber.ca/events/details/pancake-breakfast-9098
END:VEVENT

END:VCALENDAR
