BEGIN:VCALENDAR
VERSION:2.0
PRODID:-//ChamberMaster//Event Calendar 2.0//EN
METHOD:PUBLISH
X-PUBLISHED-TTL:P3D
REFRESH-INTERVAL:P3D
CALSCALE:GREGORIAN
BEGIN:VEVENT
DTSTART:20210406T180000Z
DTEND:20210406T200000Z
X-MICROSOFT-CDO-ALLDAYEVENT:FALSE
SUMMARY:Photographs & Photography at the Archives: A virtual presentation with live Q&A
DESCRIPTION:Photographs & Photography at the Archives: A virtual presentation with live Q&A April 6\, 2PM\, Facebook Live Explore the history of photography within BCM&CC's archival collection during Archives Awareness Week! From cyanotypes\, tintypes\, and cabinet cards to 35mm and sheet negatives\, you'll witness the evolution of photography and learn how the Archives preserves and makes accessible fascinating images from across Bruce County. A live Q&A will follow the recorded presentation on Facebook Live. The presentation will be available to view on YouTube afterwards. Proudly presented by the Bruce County Historical Society
X-ALT-DESC;FMTTYPE=text/html:Photographs &amp\; Photography at the Archives: A virtual presentation with live Q&amp\;A April 6\, 2PM\, Facebook Live Explore the history of photography within BCM&amp\;CC&#39\;s archival collection during Archives Awareness Week! From cyanotypes\, tintypes\, and cabinet cards to 35mm and sheet negatives\, you&#39\;ll witness the evolution of photography and learn how the Archives preserves and makes accessible fascinating images from across Bruce County. A live Q&amp\;A will follow the recorded presentation on Facebook Live. The presentation will be available to view on YouTube afterwards. Proudly presented by the Bruce County Historical Society
LOCATION:Bruce County Museum & Cultural Centre Facebook Live
UID:e.2689.24110
SEQUENCE:3
DTSTAMP:20260419T171316Z
URL:https://www.saugeenshoreschamber.ca/events/details/photographs-photography-at-the-archives-a-virtual-presentation-with-live-q-a-24110
END:VEVENT

END:VCALENDAR
