BEGIN:VCALENDAR
VERSION:2.0
PRODID:-//ChamberMaster//Event Calendar 2.0//EN
METHOD:PUBLISH
X-PUBLISHED-TTL:P3D
REFRESH-INTERVAL:P3D
CALSCALE:GREGORIAN
BEGIN:VEVENT
DTSTART:20180803T220000Z
DTEND:20180803T233000Z
X-MICROSOFT-CDO-ALLDAYEVENT:FALSE
SUMMARY:Port Elgin Legion Friday BBQ/Dinner
DESCRIPTION:Port Elgin Legion Friday BBQ/Dinner. Event will be held in our Club Room. Tickets sold on the day of the event. Adults: $12.00 Child: 12 and Under - $6.00.  Please join us from 6-7:30pm.
X-ALT-DESC;FMTTYPE=text/html:Port Elgin Legion Friday BBQ/Dinner. Event will be held in our Club Room. Tickets sold on the day of the event.&nbsp\;Adults: $12.00 Child: 12 and Under - $6.00.&nbsp\; Please join us from 6-7:30pm.
LOCATION:Port Elgin Legion 630 Green Street\, Port Elgin
UID:e.2689.12982
SEQUENCE:3
DTSTAMP:20260420T150059Z
URL:https://www.saugeenshoreschamber.ca/events/details/port-elgin-legion-friday-bbq-dinner-08-03-2018-12982
END:VEVENT

END:VCALENDAR
