BEGIN:VCALENDAR
VERSION:2.0
PRODID:-//ChamberMaster//Event Calendar 2.0//EN
METHOD:PUBLISH
X-PUBLISHED-TTL:P3D
REFRESH-INTERVAL:P3D
CALSCALE:GREGORIAN
BEGIN:VEVENT
DTSTART:20181013T200000Z
DTEND:20181013T220000Z
X-MICROSOFT-CDO-ALLDAYEVENT:FALSE
SUMMARY:Port Elgin Legion Meat Draw
DESCRIPTION:Port Elgin Legion Meat Draw. Meat Draws will be held in our Club Room. Variety of prizes to be won. Please join us from 4-6pm.
X-ALT-DESC;FMTTYPE=text/html:Port Elgin Legion Meat Draw. Meat Draws will be held in our Club Room. Variety of prizes to be won. Please join us from 4-6pm.
LOCATION:Port Elgin Legion 630 Green Street\, Port Elgin
UID:e.2689.12967
SEQUENCE:3
DTSTAMP:20260420T181458Z
URL:https://www.saugeenshoreschamber.ca/events/details/port-elgin-legion-meat-draw-10-13-2018-12967
END:VEVENT

END:VCALENDAR
