BEGIN:VCALENDAR
VERSION:2.0
PRODID:-//ChamberMaster//Event Calendar 2.0//EN
METHOD:PUBLISH
X-PUBLISHED-TTL:P3D
REFRESH-INTERVAL:P3D
CALSCALE:GREGORIAN
BEGIN:VEVENT
DTSTART:20180929T120000Z
DTEND:20180930T160000Z
X-MICROSOFT-CDO-ALLDAYEVENT:FALSE
SUMMARY:Port Elgin Legion Pumpkinfest Buffet Breakfast
DESCRIPTION:Port Elgin Legion Pumpkinfest Buffet Breakfast. Join us in the Main Hall for our Pumpkinfest Buffet Breakfast at the Port Elgin Legion Branch 340\, 630 Green Street\, Port Elgin. Adults: $10.00 Children 12 and Under: $6.00.
X-ALT-DESC;FMTTYPE=text/html:Port Elgin Legion Pumpkinfest Buffet Breakfast. Join us in the Main Hall for our Pumpkinfest Buffet Breakfast at the Port Elgin Legion Branch 340\, 630 Green Street\, Port Elgin.&nbsp\;Adults: $10.00 Children 12 and Under: $6.00.
LOCATION:Port Elgin Legion\, 630 Green Street\, Port Elgin
UID:e.2689.12986
SEQUENCE:3
DTSTAMP:20260420T150102Z
URL:https://www.saugeenshoreschamber.ca/events/details/port-elgin-legion-pumpkinfest-buffet-breakfast-09-29-2018-12986
END:VEVENT

END:VCALENDAR
