BEGIN:VCALENDAR
VERSION:2.0
PRODID:-//ChamberMaster//Event Calendar 2.0//EN
METHOD:PUBLISH
X-PUBLISHED-TTL:P3D
REFRESH-INTERVAL:P3D
CALSCALE:GREGORIAN
BEGIN:VEVENT
DTSTART:20181208T010000Z
DTEND:20181208T030000Z
X-MICROSOFT-CDO-ALLDAYEVENT:FALSE
SUMMARY:Port Elgin Legion Turkey & Meat Draw
DESCRIPTION:Port Elgin Legion Turkey & Meat Draw. Draws will be held in our Club Room. Variety of prizes to be won. Please join us. Note the start time of the event is 8:00 pm.
X-ALT-DESC;FMTTYPE=text/html:Port Elgin Legion Turkey &amp\; Meat Draw. Draws will be held in our Club Room. Variety of prizes to be won. Please join us. Note the start time of the event is 8:00 pm.
LOCATION:Port Elgin Legion 630 Green Street\, Port Elgin
UID:e.2689.12972
SEQUENCE:3
DTSTAMP:20260421T120112Z
URL:https://www.saugeenshoreschamber.ca/events/details/port-elgin-legion-turkey-meat-draw-12-07-2018-12972
END:VEVENT

END:VCALENDAR
