BEGIN:VCALENDAR
VERSION:2.0
PRODID:-//ChamberMaster//Event Calendar 2.0//EN
METHOD:PUBLISH
X-PUBLISHED-TTL:P3D
REFRESH-INTERVAL:P3D
CALSCALE:GREGORIAN
BEGIN:VEVENT
DTSTART;VALUE=DATE:20170930
DTEND;VALUE=DATE:20171002
TRANSP:TRANSPARENT
X-MICROSOFT-CDO-ALLDAYEVENT:TRUE
SUMMARY:Port Elgin Pumpkinfest
DESCRIPTION:Saugeen Shores Award Winning Port Elgin Pumpkinfest. Welcome to Port Elgin Pumpkinfest! One of Ontario's most unique events. Featuring two giant Vegetable Weigh Offs\, one of Ontario's largest two day outdoor Car Shows\, over 100 craft & marketplace vendors for all your Shopping needs and tons of family fun attractions\, Port Elgin Pumpkinfest is the place to be! It takes the entire community to run a festival of this size and Port Elgin Pumpkinfest is proud to partner with our Sponsors\, local Non-Profit Groups\, Volunteers\, The Municipality of Saugeen Shores\, and the Saugeen Shores Chamber of Commerce. It is because of all their hard work that Port Elgin Pumpkinfest was the recipient of the Best Community Involvement Award.
X-ALT-DESC;FMTTYPE=text/html:Saugeen Shores Award Winning Port Elgin Pumpkinfest. Welcome to Port Elgin Pumpkinfest! One of Ontario&#39\;s most unique events. Featuring two giant Vegetable Weigh Offs\, one of Ontario&#39\;s largest two day outdoor Car Shows\, over 100 craft &amp\; marketplace vendors for all your Shopping needs and tons of family fun attractions\, Port Elgin Pumpkinfest is the place to be! It takes the entire community to run a festival of this size and Port Elgin Pumpkinfest is proud to partner with our Sponsors\, local Non-Profit Groups\, Volunteers\, The Municipality of Saugeen Shores\, and the Saugeen Shores Chamber of Commerce. It is because of all their hard work that Port Elgin Pumpkinfest was the recipient of the Best Community Involvement Award.
LOCATION:Downtown Port Elgin
UID:e.2689.5382
SEQUENCE:3
DTSTAMP:20260419T163645Z
URL:https://www.saugeenshoreschamber.ca/events/details/port-elgin-pumpkinfest-09-30-2017-5382
END:VEVENT

END:VCALENDAR
