BEGIN:VCALENDAR
VERSION:2.0
PRODID:-//ChamberMaster//Event Calendar 2.0//EN
METHOD:PUBLISH
X-PUBLISHED-TTL:P3D
REFRESH-INTERVAL:P3D
CALSCALE:GREGORIAN
BEGIN:VEVENT
DTSTART:20180928T230000Z
DTEND:20180928T060000Z
X-MICROSOFT-CDO-ALLDAYEVENT:FALSE
SUMMARY:Port Elgin Pumpkinfest PubKin Crawl
DESCRIPTION:Kick off Port Elgin Pumpkinfest weekend with the 9th Round of the PubKin Crawl\, with live music at various venues throughout Saugeen Shores. The Saugeen Shores Trolley begins at 7:00pm and will run continuously until 2am for $5 a wristband.Visit www.pumpkinfest.org for more information.
X-ALT-DESC;FMTTYPE=text/html:Kick off Port Elgin Pumpkinfest&nbsp\;weekend with the 9th Round of the PubKin Crawl\, with live music at various venues throughout&nbsp\;Saugeen Shores. The Saugeen Shores Trolley begins at 7:00pm&nbsp\;and will run continuously&nbsp\;until 2am&nbsp\;for $5 a wristband.Visit www.pumpkinfest.org for more information.
LOCATION:Various venues throughout Saugeen Shores
UID:e.2689.12552
SEQUENCE:3
DTSTAMP:20260420T163843Z
URL:https://www.saugeenshoreschamber.ca/events/details/port-elgin-pumpkinfest-pubkin-crawl-12552
END:VEVENT

END:VCALENDAR
