BEGIN:VCALENDAR
VERSION:2.0
PRODID:-//ChamberMaster//Event Calendar 2.0//EN
METHOD:PUBLISH
X-PUBLISHED-TTL:P3D
REFRESH-INTERVAL:P3D
CALSCALE:GREGORIAN
BEGIN:VEVENT
DTSTART:20170929T230000Z
DTEND:20170929T060000Z
X-MICROSOFT-CDO-ALLDAYEVENT:FALSE
SUMMARY:Port Elgin Pumpkinfest Pubkin Crawl
DESCRIPTION:Kick off Port Elgin Pumpkinfest weekend with the 8th Round of the Pub-Kin Crawl\, with live music at various venues throughout Saugeen Shores. The Saugeen Shores Trolley begins at 7:00PM and will run continuously until 2AM for $2 per ride.\n\nVisit www.pumpkinfest.org for more information.
X-ALT-DESC;FMTTYPE=text/html:Kick off Port Elgin Pumpkinfest&nbsp\;weekend with the 8th Round of the Pub-Kin Crawl\, with live music at various venues throughout&nbsp\;Saugeen Shores. The Saugeen Shores Trolley begins at 7:00PM and will run continuously&nbsp\;until 2AM for $2 per ride.<br />\nVisit www.pumpkinfest.org for more information.
LOCATION:Various venues throughout Saugeen Shores
UID:e.2689.8372
SEQUENCE:3
DTSTAMP:20260419T163640Z
URL:https://www.saugeenshoreschamber.ca/events/details/port-elgin-pumpkinfest-pubkin-crawl-8372
END:VEVENT

END:VCALENDAR
