BEGIN:VCALENDAR
VERSION:2.0
PRODID:-//ChamberMaster//Event Calendar 2.0//EN
METHOD:PUBLISH
X-PUBLISHED-TTL:P3D
REFRESH-INTERVAL:P3D
CALSCALE:GREGORIAN
BEGIN:VEVENT
DTSTART:20181125T000000Z
DTEND:20181125T013000Z
X-MICROSOFT-CDO-ALLDAYEVENT:FALSE
SUMMARY:Port Elgin Santa Claus Parade
DESCRIPTION:Port Elgin Santa Claus Parade\, starts at 7pm. Santa arrives in Port Elgin for the first Christmas Parade in Saugeen Shores and will be traveling the parade route waving to all the children! The parade is sponsored by the Saugeen Shores Chamber of Commerce. Non-perishable food items will be collected for the local food bank. The parade starts at 7pm and will run along Goderich Street (from Elgin Street to Ivings Drive). Parade theme will be Parade of Lights. Please call ahead to arrange for your float to be in the parade. Volunteers are needed to assist with the marshaling. Call Saugeen Shores Chamber of Commerce at 519-832-2332 if you want to help out.\n\n\n\nClick here for a float registration form.
X-ALT-DESC;FMTTYPE=text/html:Port Elgin Santa Claus Parade\, starts at 7pm. Santa arrives in Port Elgin for the first Christmas Parade in Saugeen Shores and will be traveling the parade route waving to all the children! The parade is sponsored by the Saugeen Shores Chamber of Commerce. Non-perishable food items will be collected for the local food bank. The parade starts at 7pm and will run along Goderich Street (from Elgin Street to Ivings Drive). Parade theme will be Parade of Lights. Please call ahead to arrange for your float to be in the parade. Volunteers are needed to assist with the marshaling. Call Saugeen Shores Chamber of Commerce at 519-832-2332 if you want to help out.<br />\n<br />\n<a href="https://chambermaster.blob.core.windows.net/userfiles/UserFiles/chambers/2689/File/GuidelinesRegistrationForm2018.pdf">Click here for a float registration form</a>.&nbsp\;
LOCATION:Down Town Port Elgin\, along Goderich Street
UID:e.2689.12551
SEQUENCE:3
DTSTAMP:20260420T182819Z
URL:https://www.saugeenshoreschamber.ca/events/details/port-elgin-santa-claus-parade-12551
END:VEVENT

END:VCALENDAR
