BEGIN:VCALENDAR
VERSION:2.0
PRODID:-//ChamberMaster//Event Calendar 2.0//EN
METHOD:PUBLISH
X-PUBLISHED-TTL:P3D
REFRESH-INTERVAL:P3D
CALSCALE:GREGORIAN
BEGIN:VEVENT
DTSTART;VALUE=DATE:20181115
DTEND;VALUE=DATE:20181116
TRANSP:TRANSPARENT
X-MICROSOFT-CDO-ALLDAYEVENT:TRUE
SUMMARY:Port Elgin Shoppers Night
DESCRIPTION:It's just about Christmas in downtown Port Elgin -- and that means the traditional Port Elgin Shoppers Night kicks off Nov. 15th. Shop local this holiday season as businesses stay open late.
X-ALT-DESC;FMTTYPE=text/html:<span style="font-family: Arial\, sans-serif\; font-size: 14.4px\;">It&#39\;s just about Christmas in downtown Port Elgin -- and that means the traditional Port Elgin Shoppers Night kicks off Nov. 15th. Shop local this holiday season as businesses stay open late.&nbsp\;</span>
LOCATION:
UID:e.2689.17740
SEQUENCE:3
DTSTAMP:20260420T182344Z
URL:https://www.saugeenshoreschamber.ca/events/details/port-elgin-shoppers-night-17740
END:VEVENT

END:VCALENDAR
