BEGIN:VCALENDAR
VERSION:2.0
PRODID:-//ChamberMaster//Event Calendar 2.0//EN
METHOD:PUBLISH
X-PUBLISHED-TTL:P3D
REFRESH-INTERVAL:P3D
CALSCALE:GREGORIAN
BEGIN:VEVENT
DTSTART:20181025T210000Z
DTEND:20181025T220000Z
X-MICROSOFT-CDO-ALLDAYEVENT:FALSE
SUMMARY:Power Workers Union Presents Skate with Greats: Featuring Doug Gilmore
DESCRIPTION:The Power Workers Union presents Skate with the Greats: Featuring Doug Gilmore! Everyone is welcome to take the ice and skate alongside some of your favourite former NHL Stars\, and help raise money for kids with physical disabilities. All ages welcome. Donation at the door would be greatly appreciated **Donations are appreciated.
X-ALT-DESC;FMTTYPE=text/html:The Power Workers Union presents Skate with the Greats: Featuring Doug Gilmore! Everyone is welcome to take the ice and skate alongside some of your favourite former NHL Stars\, and help raise money for kids with physical disabilities. All ages welcome. Donation at the door would be greatly appreciated **Donations are appreciated.
LOCATION:The Plex 600 Tomlinson Dr\, Saugeen Shore\, ON N0H2C0
UID:e.2689.17736
SEQUENCE:3
DTSTAMP:20260420T181336Z
URL:https://www.saugeenshoreschamber.ca/events/details/power-workers-union-presents-skate-with-greats-featuring-doug-gilmore-17736
END:VEVENT

END:VCALENDAR
