BEGIN:VCALENDAR
VERSION:2.0
PRODID:-//ChamberMaster//Event Calendar 2.0//EN
METHOD:PUBLISH
X-PUBLISHED-TTL:P3D
REFRESH-INTERVAL:P3D
CALSCALE:GREGORIAN
BEGIN:VEVENT
DTSTART:20181205T150000Z
DTEND:20181205T163000Z
X-MICROSOFT-CDO-ALLDAYEVENT:FALSE
SUMMARY:Preschool Holiday Fun!
DESCRIPTION:Preschool Holiday fun! At the Bruce County Museum & Cultural Centre. 10am - 11:30 am. Make memories as you enjoy these creative holiday activities with you preschooler! Preregistration and prepayment are required. Recommended ages to participate are 18 months to 4 years\, but all are welcome. Adult supervision is required. December 5: Sweet Holiday Treats. December 12: Deck the Halls. Members $5/session\, Public $8/session.
X-ALT-DESC;FMTTYPE=text/html:Preschool Holiday fun! At the Bruce County Museum &amp\; Cultural Centre. 10am - 11:30 am. Make memories as you enjoy these creative holiday activities with you preschooler! Preregistration and prepayment are required. Recommended ages to participate are 18 months to 4 years\, but all are welcome. Adult supervision is required. December 5: Sweet Holiday Treats. December 12: Deck the Halls. Members $5/session\, Public $8/session.
LOCATION:Bruce County Museum and Cultural Centre\, 33 Victoria Street\, Southampton
UID:e.2689.17798
SEQUENCE:3
DTSTAMP:20260421T115728Z
URL:https://www.saugeenshoreschamber.ca/events/details/preschool-holiday-fun-17798
END:VEVENT

END:VCALENDAR
