BEGIN:VCALENDAR
VERSION:2.0
PRODID:-//ChamberMaster//Event Calendar 2.0//EN
METHOD:PUBLISH
X-PUBLISHED-TTL:P3D
REFRESH-INTERVAL:P3D
CALSCALE:GREGORIAN
BEGIN:VEVENT
DTSTART:20181002T143000Z
DTEND:20181002T150000Z
X-MICROSOFT-CDO-ALLDAYEVENT:FALSE
SUMMARY:Preschool Storytime
DESCRIPTION:Preschool Storytime.  Weekly\, on Tuesdays from September 4 to October 30.  10:30am at the Port Elgin Branch Library. Join us for this fun preschool program where we will help you build early literacy skills with your child by reading\, talking\, singing and playing together. Adults must stay for program.
X-ALT-DESC;FMTTYPE=text/html:Preschool Storytime.&nbsp\; Weekly\, on Tuesdays from September 4 to October 30.&nbsp\; 10:30am at the Port Elgin Branch Library. Join us for this fun preschool program where we will help you build early literacy skills with your child by reading\, talking\, singing and playing together. Adults must stay for program.
LOCATION:Port Elgin Branch Library
UID:e.2689.17669
SEQUENCE:3
DTSTAMP:20260420T181526Z
URL:https://www.saugeenshoreschamber.ca/events/details/preschool-storytime-10-02-2018-17669
END:VEVENT

END:VCALENDAR
