BEGIN:VCALENDAR
VERSION:2.0
PRODID:-//ChamberMaster//Event Calendar 2.0//EN
METHOD:PUBLISH
X-PUBLISHED-TTL:P3D
REFRESH-INTERVAL:P3D
CALSCALE:GREGORIAN
BEGIN:VEVENT
DTSTART:20181003T170000Z
DTEND:20181003T180000Z
X-MICROSOFT-CDO-ALLDAYEVENT:FALSE
SUMMARY:Pulled String Art for Adults
DESCRIPTION:Wednesday\, October 3rd. Be an instant artist and create beautiful abstract art painting with string. No experience necessary. Limited to 10 participants.
X-ALT-DESC;FMTTYPE=text/html:Wednesday\, October 3rd. Be an instant artist and create beautiful abstract art painting with string. No experience necessary. Limited to 10 participants.
LOCATION:Port Elgin Branch Library
UID:e.2689.17572
SEQUENCE:3
DTSTAMP:20260420T163316Z
URL:https://www.saugeenshoreschamber.ca/events/details/pulled-string-art-for-adults-17572
END:VEVENT

END:VCALENDAR
