BEGIN:VCALENDAR
VERSION:2.0
PRODID:-//ChamberMaster//Event Calendar 2.0//EN
METHOD:PUBLISH
X-PUBLISHED-TTL:P3D
REFRESH-INTERVAL:P3D
CALSCALE:GREGORIAN
BEGIN:VEVENT
DTSTART:20180928T220000Z
DTEND:20180929T000000Z
X-MICROSOFT-CDO-ALLDAYEVENT:FALSE
SUMMARY:Pumpkinfest Dinner in the Lounge
DESCRIPTION:Pumpkinfest Dinner in the Lounge. Serving at 6pm. Eva Stoddart's "Pulled BBQ Turkey on a Bun"\, Potato Salad\, Mixed Greens\, Baked Beans\, Deviled Eggs\, Dessert. Everyone is welcome. Advance tickets at the Port Elgin Legion Bar or from Elizabeth Eby 519-832-3133 bizebys@gmail.com
X-ALT-DESC;FMTTYPE=text/html:Pumpkinfest Dinner in the Lounge. Serving at 6pm. Eva Stoddart&#39\;s &quot\;Pulled BBQ Turkey on a Bun&quot\;\, Potato Salad\, Mixed Greens\, Baked Beans\, Deviled Eggs\, Dessert. Everyone is welcome. Advance tickets at the Port Elgin Legion Bar or from Elizabeth Eby 519-832-3133 bizebys@gmail.com
LOCATION:Port Elgin Legion\, 630 Green Street
UID:e.2689.17623
SEQUENCE:3
DTSTAMP:20260420T163843Z
URL:https://www.saugeenshoreschamber.ca/events/details/pumpkinfest-dinner-in-the-lounge-17623
END:VEVENT

END:VCALENDAR
