BEGIN:VCALENDAR
VERSION:2.0
PRODID:-//ChamberMaster//Event Calendar 2.0//EN
METHOD:PUBLISH
X-PUBLISHED-TTL:P3D
REFRESH-INTERVAL:P3D
CALSCALE:GREGORIAN
BEGIN:VEVENT
DTSTART:20210330T160000Z
DTEND:20210330T170000Z
X-MICROSOFT-CDO-ALLDAYEVENT:FALSE
SUMMARY:RBC Free Economic Update Virtual Event
DESCRIPTION:Free Online Event for All Residents of Saugeen Shores
X-ALT-DESC;FMTTYPE=text/html:Free Online Event for All Residents of Saugeen Shores
LOCATION:
UID:e.2689.24124
SEQUENCE:3
DTSTAMP:20260419T202611Z
URL:https://www.saugeenshoreschamber.ca/events/details/rbc-free-economic-update-virtual-event-24124
END:VEVENT

END:VCALENDAR
